BEGIN:VCALENDAR
VERSION:2.0
PRODID:-//ChamberMaster//Event Calendar 2.0//EN
METHOD:PUBLISH
X-PUBLISHED-TTL:P3D
REFRESH-INTERVAL:P3D
CALSCALE:GREGORIAN
BEGIN:VEVENT
DTSTART:20110205T170000Z
DTEND:20110205T060000Z
X-MICROSOFT-CDO-ALLDAYEVENT:FALSE
SUMMARY:Habitat Home Dedication Ceremony
DESCRIPTION:
X-ALT-DESC;FMTTYPE=text/html:
LOCATION:Our Home In Progress
UID:e.2096.835
SEQUENCE:3
DTSTAMP:20260422T222842Z
URL:https://network.garlandchamber.com/events/details/habitat-home-dedication-ceremony-02-05-2011-835
END:VEVENT

END:VCALENDAR
