BEGIN:VCALENDAR
VERSION:2.0
PRODID:-//ChamberMaster//Event Calendar 2.0//EN
METHOD:PUBLISH
X-PUBLISHED-TTL:P3D
REFRESH-INTERVAL:P3D
CALSCALE:GREGORIAN
BEGIN:VEVENT
DTSTART:20080327T140000Z
DTEND:20080327T050000Z
X-MICROSOFT-CDO-ALLDAYEVENT:FALSE
SUMMARY:Half Price BookGrand Opening Ceremony
DESCRIPTION:
X-ALT-DESC;FMTTYPE=text/html:
LOCATION:Half Price Books
UID:e.2096.512
SEQUENCE:3
DTSTAMP:20260424T225656Z
URL:https://network.garlandchamber.com/events/details/half-price-bookgrand-opening-ceremony-03-27-2008-512
END:VEVENT

END:VCALENDAR
