BEGIN:VCALENDAR
VERSION:2.0
PRODID:-//ChamberMaster//Event Calendar 2.0//EN
METHOD:PUBLISH
X-PUBLISHED-TTL:P3D
REFRESH-INTERVAL:P3D
CALSCALE:GREGORIAN
BEGIN:VEVENT
DTSTART:20080906T160000Z
DTEND:20080906T210000Z
X-MICROSOFT-CDO-ALLDAYEVENT:FALSE
SUMMARY:Harley-Davidson Bounty of Bikes Party
DESCRIPTION:
X-ALT-DESC;FMTTYPE=text/html:
LOCATION:Dallas Harley- Davidson
UID:e.2096.576
SEQUENCE:3
DTSTAMP:20260424T160857Z
URL:https://network.garlandchamber.com/events/details/harley-davidson-bounty-of-bikes-party-09-06-2008-576
END:VEVENT

END:VCALENDAR
