BEGIN:VCALENDAR
VERSION:2.0
PRODID:-//ChamberMaster//Event Calendar 2.0//EN
METHOD:PUBLISH
X-PUBLISHED-TTL:P3D
REFRESH-INTERVAL:P3D
CALSCALE:GREGORIAN
BEGIN:VEVENT
DTSTART:20070315T150000Z
DTEND:20070315T160000Z
X-MICROSOFT-CDO-ALLDAYEVENT:FALSE
SUMMARY:Hawaiian Falls Groundbreaking - Park Expansion
DESCRIPTION:
X-ALT-DESC;FMTTYPE=text/html:
LOCATION:
UID:e.2096.376
SEQUENCE:3
DTSTAMP:20260425T164332Z
URL:https://network.garlandchamber.com/events/details/hawaiian-falls-groundbreaking-park-expansion-03-15-2007-376
END:VEVENT

END:VCALENDAR
