BEGIN:VCALENDAR
VERSION:2.0
PRODID:-//ChamberMaster//Event Calendar 2.0//EN
METHOD:PUBLISH
X-PUBLISHED-TTL:P3D
REFRESH-INTERVAL:P3D
CALSCALE:GREGORIAN
BEGIN:VEVENT
DTSTART:20130302T150000Z
DTEND:20130302T190000Z
X-MICROSOFT-CDO-ALLDAYEVENT:FALSE
SUMMARY:Hawaiian Falls Job Fair
DESCRIPTION:Hawaiian Falls is holding Job Fairs beginning March 2 to hire more than 1\,000 seasonal workers for its North Texas waterparks: Firewheel Church\, 1600 W. Campbell\, Garland 75044 \nfor Hawaiian Falls Garland \nMarch 2\, Saturday\, 9 a.m. - 1 p.m. \nMarch 5\, Tuesday\, 4:30 p.m. - 8:30 p.m.
X-ALT-DESC;FMTTYPE=text/html:<P>Hawaiian Falls is holding Job Fairs beginning March 2 to hire more than 1\,000 seasonal workers for its North Texas waterparks: </P><P><STRONG>Firewheel Church\, 1600 W. Campbell\, Garland 75044 <BR>for Hawaiian Falls Garland <BR></STRONG>March 2\, Saturday\, 9 a.m. - 1 p.m. <BR>March 5\, Tuesday\, 4:30 p.m. - 8:30 p.m.</P>
LOCATION:Firewheel Church
UID:e.2096.1162
SEQUENCE:3
DTSTAMP:20260421T115129Z
URL:https://network.garlandchamber.com/events/details/hawaiian-falls-job-fair-03-02-2013-1162
END:VEVENT

END:VCALENDAR
