BEGIN:VCALENDAR
VERSION:2.0
PRODID:-//ChamberMaster//Event Calendar 2.0//EN
METHOD:PUBLISH
X-PUBLISHED-TTL:P3D
REFRESH-INTERVAL:P3D
CALSCALE:GREGORIAN
BEGIN:VEVENT
DTSTART:20120306T060000Z
DTEND:20120310T060000Z
X-MICROSOFT-CDO-ALLDAYEVENT:FALSE
SUMMARY:Hawaiian Falls Job Fair
DESCRIPTION:
X-ALT-DESC;FMTTYPE=text/html:
LOCATION:
UID:e.2096.755
SEQUENCE:3
DTSTAMP:20260422T040102Z
URL:https://network.garlandchamber.com/events/details/hawaiian-falls-job-fair-03-06-2012-755
END:VEVENT

END:VCALENDAR
