BEGIN:VCALENDAR
VERSION:2.0
PRODID:-//ChamberMaster//Event Calendar 2.0//EN
METHOD:PUBLISH
X-PUBLISHED-TTL:P3D
REFRESH-INTERVAL:P3D
CALSCALE:GREGORIAN
BEGIN:VEVENT
DTSTART:20120403T210000Z
DTEND:20120404T000000Z
X-MICROSOFT-CDO-ALLDAYEVENT:FALSE
SUMMARY:Hawaiian Falls Prayer Walk
DESCRIPTION:
X-ALT-DESC;FMTTYPE=text/html:
LOCATION:Hawaiian Falls Garland
UID:e.2096.1018
SEQUENCE:3
DTSTAMP:20260422T023002Z
URL:https://network.garlandchamber.com/events/details/hawaiian-falls-prayer-walk-04-03-2012-1018
END:VEVENT

END:VCALENDAR
