BEGIN:VCALENDAR
VERSION:2.0
PRODID:-//ChamberMaster//Event Calendar 2.0//EN
METHOD:PUBLISH
X-PUBLISHED-TTL:P3D
REFRESH-INTERVAL:P3D
CALSCALE:GREGORIAN
BEGIN:VEVENT
DTSTART:20080312T220000Z
DTEND:20080312T233000Z
X-MICROSOFT-CDO-ALLDAYEVENT:FALSE
SUMMARY:Healthy Cooking for Busy Women
DESCRIPTION:
X-ALT-DESC;FMTTYPE=text/html:
LOCATION:G.I.S.D. Special Events Center
UID:e.2096.504
SEQUENCE:3
DTSTAMP:20260424T230246Z
URL:https://network.garlandchamber.com/events/details/healthy-cooking-for-busy-women-03-12-2008-504
END:VEVENT

END:VCALENDAR
