BEGIN:VCALENDAR
VERSION:2.0
PRODID:-//ChamberMaster//Event Calendar 2.0//EN
METHOD:PUBLISH
X-PUBLISHED-TTL:P3D
REFRESH-INTERVAL:P3D
CALSCALE:GREGORIAN
BEGIN:VEVENT
DTSTART:20120922T140000Z
DTEND:20120922T180000Z
X-MICROSOFT-CDO-ALLDAYEVENT:FALSE
SUMMARY:Healthy Living Expo 2012
DESCRIPTION:Healthy You! Healthy Earth! The Healthy Living Expo is a FREE event brought to the community by the City of Garland\, Garland Independent School District\, Baylor and Garland Chamber of Commerce. This will be the fifth year of this well-attended event and we are very excited to add a 5K race.  See Partnership Opportunities
X-ALT-DESC;FMTTYPE=text/html:<DIV style="FONT-FAMILY: Arial">Healthy You! Healthy Earth!</DIV><DIV style="FONT-FAMILY: Arial">&nbsp\;</DIV><DIV style="FONT-FAMILY: Arial">The Healthy Living Expo is a FREE event brought to the community by the City of Garland\, Garland Independent School District\, Baylor and Garland Chamber of Commerce. This will be the fifth year of this well-attended event and we are very excited to add a 5K race. </DIV><DIV style="FONT-FAMILY: Arial">&nbsp\;</DIV><DIV style="FONT-FAMILY: Arial"><A dataFld=0:0 href="http://www.garlandchamber.com/images/stories/chamber/Healthy%20Living%20Expo%202012.pdf">See Partnership Opportunities</A></DIV>
LOCATION:Garland ISD Special Events Center
UID:e.2096.1047
SEQUENCE:3
DTSTAMP:20260421T204716Z
URL:https://network.garlandchamber.com/events/details/healthy-living-expo-2012-09-22-2012-1047
END:VEVENT

END:VCALENDAR
