BEGIN:VCALENDAR
VERSION:2.0
PRODID:-//ChamberMaster//Event Calendar 2.0//EN
METHOD:PUBLISH
X-PUBLISHED-TTL:P3D
REFRESH-INTERVAL:P3D
CALSCALE:GREGORIAN
BEGIN:VEVENT
DTSTART:20091101T050000Z
DTEND:20091130T060000Z
X-MICROSOFT-CDO-ALLDAYEVENT:FALSE
SUMMARY:Hearthstone Assisted Living at Garland - Baby Blanket Drive
DESCRIPTION:Baby Blanket Drive - November 1st-30thWe're hosting a Baby Blanket Drive!Please join us by donating a new baby blanket.They will be delivered to newborns in need on Dec.4th.
X-ALT-DESC;FMTTYPE=text/html:<DIV><P class=MsoNormal style="MARGIN: 0in 0in 0pt"><STRONG><SPAN style="FONT-SIZE: 10pt\; COLOR: blue\; FONT-FAMILY: 'Arial'\,'sans-serif'\; mso-fareast-font-family: 'Times New Roman'">Baby Blanket Drive - November 1st-30th</SPAN></STRONG><SPAN style="mso-fareast-font-family: 'Times New Roman'"><?xml:namespace prefix = o ns = "urn:schemas-microsoft-com:office:office" /><o:p></o:p></SPAN></P><P class=MsoNormal style="MARGIN: 0in 0in 0pt"><SPAN style="FONT-SIZE: 10pt\; COLOR: blue\; FONT-FAMILY: 'Arial'\,'sans-serif'\; mso-fareast-font-family: 'Times New Roman'">We're hosting a Baby Blanket Drive!</SPAN><SPAN style="mso-fareast-font-family: 'Times New Roman'"><o:p></o:p></SPAN></P><P class=MsoNormal style="MARGIN: 0in 0in 0pt"><SPAN style="FONT-SIZE: 10pt\; COLOR: blue\; FONT-FAMILY: 'Arial'\,'sans-serif'\; mso-fareast-font-family: 'Times New Roman'">Please join us by donating a new baby blanket.</SPAN><SPAN style="mso-fareast-font-family: 'Times New Roman'"><o:p></o:p></SPAN></P><P class=MsoNormal style="MARGIN: 0in 0in 0pt"><SPAN style="FONT-SIZE: 10pt\; COLOR: blue\; FONT-FAMILY: 'Arial'\,'sans-serif'\; mso-fareast-font-family: 'Times New Roman'">They will be delivered to newborns in need on Dec.4th.</SPAN><SPAN style="mso-fareast-font-family: 'Times New Roman'"><o:p></o:p></SPAN></P><P class=MsoNormal style="MARGIN: 0in 0in 0pt"><SPAN style="mso-fareast-font-family: 'Times New Roman'"><FONT face="Times New Roman"></FONT></SPAN></P><P class=MsoNormal style="MARGIN: 0in 0in 0pt"><SPAN style="mso-fareast-font-family: 'Times New Roman'"><FONT face="Times New Roman">&nbsp\;</FONT></SPAN><SPAN style="mso-fareast-font-family: 'Times New Roman'"><FONT face="Times New Roman">&nbsp\;<o:p></o:p></FONT></SPAN></P><P class=MsoNormal style="MARGIN: 0in 0in 0pt"><SPAN style="mso-fareast-font-family: 'Times New Roman'"><FONT face="Times New Roman"><o:p></o:p></FONT></SPAN>&nbsp\;</P></DIV>
LOCATION:1246 Colonel Dr.
UID:e.2096.723
SEQUENCE:3
DTSTAMP:20260423T193324Z
URL:https://network.garlandchamber.com/events/details/hearthstone-assisted-living-at-garland-baby-blanket-drive-11-01-2009-723
END:VEVENT

END:VCALENDAR
