BEGIN:VCALENDAR
VERSION:2.0
PRODID:-//ChamberMaster//Event Calendar 2.0//EN
METHOD:PUBLISH
X-PUBLISHED-TTL:P3D
REFRESH-INTERVAL:P3D
CALSCALE:GREGORIAN
BEGIN:VEVENT
DTSTART:20071018T050000Z
DTEND:20071231T060000Z
X-MICROSOFT-CDO-ALLDAYEVENT:FALSE
SUMMARY:Help Our Troops - Sponsored by 1st Garland Community Credit
DESCRIPTION:
X-ALT-DESC;FMTTYPE=text/html:
LOCATION:1st Garland Community Federal Crediy Union
UID:e.2096.462
SEQUENCE:3
DTSTAMP:20260425T032641Z
URL:https://network.garlandchamber.com/events/details/help-our-troops-sponsored-by-1st-garland-community-credit-10-18-2007-462
END:VEVENT

END:VCALENDAR
