BEGIN:VCALENDAR
VERSION:2.0
PRODID:-//ChamberMaster//Event Calendar 2.0//EN
METHOD:PUBLISH
X-PUBLISHED-TTL:P3D
REFRESH-INTERVAL:P3D
CALSCALE:GREGORIAN
BEGIN:VEVENT
DTSTART:20101113T060000Z
DTEND:20101113T060000Z
X-MICROSOFT-CDO-ALLDAYEVENT:FALSE
SUMMARY:Hispanic Heritage Banquet
DESCRIPTION:Hispanic Heritage Banquet
X-ALT-DESC;FMTTYPE=text/html:Hispanic Heritage Banquet
LOCATION:The Atrium
UID:e.2096.2204
SEQUENCE:3
DTSTAMP:20260423T023450Z
URL:https://network.garlandchamber.com/events/details/hispanic-heritage-banquet-11-13-2010-2204
END:VEVENT

END:VCALENDAR
