BEGIN:VCALENDAR
VERSION:2.0
PRODID:-//ChamberMaster//Event Calendar 2.0//EN
METHOD:PUBLISH
X-PUBLISHED-TTL:P3D
REFRESH-INTERVAL:P3D
CALSCALE:GREGORIAN
BEGIN:VEVENT
DTSTART:20061201T230000Z
DTEND:20061202T010000Z
X-MICROSOFT-CDO-ALLDAYEVENT:FALSE
SUMMARY:Holiday Mix & Mingle
DESCRIPTION:HolidayMix & MingleJoin us on December 1\, 2006 for our Holiday Mix & Mingle Networking Event. This 5 Chamber Networking event will include the Garland\, Sachse\, Wylie\, Rowlett  and Murphy Chambers. If you didn't attend the first Mix & Mingle\, you don't know what you are missing. At the last networking event there were hundreds of people in attendance. To RSVP visit our website www.garlandchamber.com today! I hope to see you there!  * Enjoy a wonderful preview of Santa's Bakery\, created by Conference Hospitality Group. * Register to win tickets to the exciting "Lonestar Concert" at the Special Events Center in Garland.* Complimentary food and beverages courtesy of World Market and the Conference Hospitality Group.* Door prizes and gift cards will be given out throughout the evening. * Learn about all of the Holiday festivities\, fireworks and the new spec suite offices at Firewheel town Center.
X-ALT-DESC;FMTTYPE=text/html:<DIV style="FONT-FAMILY: Arial"><DIV align=left><FONT size=+0><SPAN class=698051716-20112006><FONT face="Arial Narrow"><DIV align=center><SPAN class=698051716-20112006><FONT face="Arial Narrow" color=#000000 size=4>Holiday</FONT></SPAN></DIV><DIV align=center><SPAN class=698051716-20112006><FONT face="Arial Narrow" color=#ff0000 size=5><STRONG>Mix &amp\; Mingle</STRONG></FONT></SPAN></DIV><DIV align=left><FONT size=+0><SPAN class=698051716-20112006><FONT face="Arial Narrow">Join us on December&nbsp\;1\, 2006&nbsp\;for our Holiday Mix &amp\; Mingle Networking Event. This 5 Chamber Networking event will include the&nbsp\;Garland\, Sachse\, Wylie\, Rowlett&nbsp\; and Murphy Chambers.&nbsp\;If you didn't attend the first Mix &amp\; Mingle\, you don't know what you are missing. At the last networking event there were&nbsp\;hundreds of&nbsp\;people in attendance. To RSVP visit our website </FONT><A title=http://www.garlandchamber.com href="http://www.garlandchamber.com"><FONT title=http://www.garlandchamber.com face="Arial Narrow">www.garlandchamber.com</FONT></A><FONT face="Arial Narrow"> today! I hope to see you there!</FONT></SPAN></FONT></DIV><DIV align=left><FONT size=+0><SPAN class=698051716-20112006></SPAN></FONT>&nbsp\;</DIV><DIV align=left><FONT size=+0><SPAN class=698051716-20112006><FONT face="Arial Narrow" size=+0><SPAN class=698051716-20112006><DIV align=left><DIV align=left>&nbsp\;</DIV><DIV align=left><FONT size=+0><SPAN class=698051716-20112006>* Enjoy a</SPAN></FONT><FONT size=+0><SPAN class=698051716-20112006>&nbsp\;wonderful preview of Santa's Bakery\, created by Conference Hospitality Group. </SPAN></FONT></DIV><DIV align=left><FONT size=+0><SPAN class=698051716-20112006>* Register to win tickets to the exciting "Lonestar Concert" at the Special Events Center in Garland.</SPAN></FONT></DIV><DIV align=left><FONT size=+0><SPAN class=698051716-20112006>* </SPAN></FONT><FONT size=+0><SPAN class=698051716-20112006>Complimentary food and beverages courtesy of World Market and the Conference Hospitality Group.</SPAN></FONT></DIV><DIV align=left><FONT size=+0><SPAN class=698051716-20112006>*&nbsp\;Door prizes and gift cards will be given out throughout the evening. </SPAN></FONT></DIV><DIV align=left><FONT size=+0><SPAN class=698051716-20112006>* Learn about all of the Holiday festivities\, fireworks and the new spec suite offices at Firewheel town Center.</SPAN></FONT></SPAN></FONT></DIV></DIV></SPAN></FONT></DIV></FONT></SPAN></FONT></DIV></DIV>
LOCATION:World Market at Firewheel Town Center
UID:e.2096.357
SEQUENCE:3
DTSTAMP:20260425T223810Z
URL:https://network.garlandchamber.com/events/details/holiday-mix-mingle-12-01-2006-357
END:VEVENT

END:VCALENDAR
