BEGIN:VCALENDAR
VERSION:2.0
PRODID:-//ChamberMaster//Event Calendar 2.0//EN
METHOD:PUBLISH
X-PUBLISHED-TTL:P3D
REFRESH-INTERVAL:P3D
CALSCALE:GREGORIAN
BEGIN:VEVENT
DTSTART:20121201T200000Z
DTEND:20121201T220000Z
X-MICROSOFT-CDO-ALLDAYEVENT:FALSE
SUMMARY:Holiday Movie Matinee
DESCRIPTION:Winters Park is rolling out the red carpet and you're invited! Now Showing: It's a Wonderful Life\nSee additional information\, including upcoming film showings
X-ALT-DESC;FMTTYPE=text/html:<DIV style="FONT-FAMILY: Arial">Winters Park is rolling out the red carpet and you're invited!</DIV><DIV style="FONT-FAMILY: Arial">&nbsp\;</DIV><DIV style="FONT-FAMILY: Arial">Now Showing: It's&nbsp\;a Wonderful Life</DIV><DIV style="FONT-FAMILY: Arial"><BR><A dataFld=0:0 href="http://www.garlandchamber.com/images/stories/chamber/Member%20Promotions/Winters%20Park%20Christmas%20movies%201112.pdf">See additional information\, including upcoming film showings</A></DIV>
LOCATION:Winters Park Assisted Living and Memory Care
UID:e.2096.1111
SEQUENCE:3
DTSTAMP:20260421T150154Z
URL:https://network.garlandchamber.com/events/details/holiday-movie-matinee-12-01-2012-1111
END:VEVENT

END:VCALENDAR
