BEGIN:VCALENDAR
VERSION:2.0
PRODID:-//ChamberMaster//Event Calendar 2.0//EN
METHOD:PUBLISH
X-PUBLISHED-TTL:P3D
REFRESH-INTERVAL:P3D
CALSCALE:GREGORIAN
BEGIN:VEVENT
DTSTART:20101209T060000Z
DTEND:20101210T060000Z
X-MICROSOFT-CDO-ALLDAYEVENT:FALSE
SUMMARY:HolidayTour of Homes & Bazaar
DESCRIPTION:
X-ALT-DESC;FMTTYPE=text/html:
LOCATION:Christian Care Centers (Greenway Village)
UID:e.2096.832
SEQUENCE:3
DTSTAMP:20260423T011135Z
URL:https://network.garlandchamber.com/events/details/holidaytour-of-homes-bazaar-12-09-2010-832
END:VEVENT

END:VCALENDAR
