BEGIN:VCALENDAR
VERSION:2.0
PRODID:-//ChamberMaster//Event Calendar 2.0//EN
METHOD:PUBLISH
X-PUBLISHED-TTL:P3D
REFRESH-INTERVAL:P3D
CALSCALE:GREGORIAN
BEGIN:VEVENT
DTSTART:20101208T210000Z
DTEND:20101209T000000Z
X-MICROSOFT-CDO-ALLDAYEVENT:FALSE
SUMMARY:Holly Berry Fair hosted by LCAR
DESCRIPTION:
X-ALT-DESC;FMTTYPE=text/html:
LOCATION:Lake Cities Association of Realtors
UID:e.2096.850
SEQUENCE:3
DTSTAMP:20260423T011124Z
URL:https://network.garlandchamber.com/events/details/holly-berry-fair-hosted-by-lcar-12-08-2010-850
END:VEVENT

END:VCALENDAR
