BEGIN:VCALENDAR
VERSION:2.0
PRODID:-//ChamberMaster//Event Calendar 2.0//EN
METHOD:PUBLISH
X-PUBLISHED-TTL:P3D
REFRESH-INTERVAL:P3D
CALSCALE:GREGORIAN
BEGIN:VEVENT
DTSTART:20091007T163000Z
DTEND:20091007T183000Z
X-MICROSOFT-CDO-ALLDAYEVENT:FALSE
SUMMARY:Homewood Suites Luncheon & Ribbon Cutting Ceremony
DESCRIPTION:
X-ALT-DESC;FMTTYPE=text/html:
LOCATION:Homewood Suites
UID:e.2096.710
SEQUENCE:3
DTSTAMP:20260423T205948Z
URL:https://network.garlandchamber.com/events/details/homewood-suites-luncheon-ribbon-cutting-ceremony-10-07-2009-710
END:VEVENT

END:VCALENDAR
