BEGIN:VCALENDAR
VERSION:2.0
PRODID:-//ChamberMaster//Event Calendar 2.0//EN
METHOD:PUBLISH
X-PUBLISHED-TTL:P3D
REFRESH-INTERVAL:P3D
CALSCALE:GREGORIAN
BEGIN:VEVENT
DTSTART:20120524T160000Z
DTEND:20120524T180000Z
X-MICROSOFT-CDO-ALLDAYEVENT:FALSE
SUMMARY:Homewood Suites Open House and Ribbon Cutting
DESCRIPTION:Homewood Suites is Excited to announce the completion of its renovations and invite you to see what's new. A light lunch will be served\, tours will be available and there will be a special appearance by the Homewood Suites mascott\, Lewis the Duck! Bring your camera for photos\, business card for door prize drawings and your appetite for food and fun.
X-ALT-DESC;FMTTYPE=text/html:<DIV style="FONT-FAMILY: Arial">Homewood Suites is Excited to announce the completion of its renovations and invite you to see what's new.</DIV><DIV style="FONT-FAMILY: Arial">&nbsp\;</DIV><DIV style="FONT-FAMILY: Arial">A light lunch will be served\, tours will be available and there will be a special appearance by the Homewood Suites mascott\, Lewis the Duck!</DIV><DIV style="FONT-FAMILY: Arial">&nbsp\;</DIV><DIV style="FONT-FAMILY: Arial">Bring your camera for photos\, business card for door prize drawings and your appetite for food and fun.</DIV>
LOCATION:Homewood Suites by Hilton
UID:e.2096.1049
SEQUENCE:3
DTSTAMP:20260422T010618Z
URL:https://network.garlandchamber.com/events/details/homewood-suites-open-house-and-ribbon-cutting-05-24-2012-1049
END:VEVENT

END:VCALENDAR
