BEGIN:VCALENDAR
VERSION:2.0
PRODID:-//ChamberMaster//Event Calendar 2.0//EN
METHOD:PUBLISH
X-PUBLISHED-TTL:P3D
REFRESH-INTERVAL:P3D
CALSCALE:GREGORIAN
BEGIN:VEVENT
DTSTART:20130501T120000Z
DTEND:20130501T140000Z
X-MICROSOFT-CDO-ALLDAYEVENT:FALSE
SUMMARY:Hope Clinic Prayer Breakfast
DESCRIPTION:The annual Prayer Breakfast will be Wednesday\, May 1. Don't miss this inspirational time as you join Hope Clinic in this community-wide gathering.  Bring your friends to introduce them to the ministry of HOPE.\n\nThe featured speaker will be Gen. (Ret) Robert Van Antwerp - distinguished leader and committed Christian. R.L. "Van" VanAntwerp LTG (Ret.) is the Chief of Infrastructure and Executive Development for the Flippen Group\, a Texas based leadership and organizational development company that specializes in talent assessment\, development and alignment. Van retired from the Army after 39 years of service and a final assignment as Chief of Engineers and Commanding General of the U.S. Army Corps of Engineers -- responsible for over 37\,000 employees who provided engineering\, project management\, construction\, and operation and maintenance support in nearly 100 countries around the world.\n\nVan became a Christian in 1977 in Hawaii and has served the Lord in church leadership positions\, bible studies and life groups\, and twelve years as the President of The Officers Christian Fellowship. He and his wife\, Paula\, speak at retreats and Christian conferences\, and ministered to wounded warriors in Alaska with Samaritan's Purse this past summer. They reside in North Carolina and have five children and seven grandchildren.\n\nJoel Allison\, President and CEO of the Baylor Health Care System\, will also address issues regarding medical care and the charitable clinic.\n\nReserve now to ensure a table ($500\, $750 or $1\,000)\n\n(214) 734-0266 or  Barbara.hopeclinic@verizon.net\n\nTo reserve individual tickets:\n\nBarbara.hopeclinic@verizon.net
X-ALT-DESC;FMTTYPE=text/html:<p>The annual Prayer Breakfast will be Wednesday\, May 1. Don&#39\;t miss this inspirational time as you join Hope Clinic in this community-wide gathering.&nbsp\; Bring your friends to introduce them to the ministry of HOPE.</p>\n\n<p>The featured speaker will be Gen. (Ret) Robert Van Antwerp&nbsp\;- distinguished leader and committed Christian. R.L. &quot\;Van&quot\; VanAntwerp LTG (Ret.) is the Chief of Infrastructure and Executive Development for the Flippen Group\, a Texas based leadership and organizational development company that specializes in talent assessment\, development and alignment. Van retired from the Army after 39 years of service and a final assignment as Chief of Engineers and Commanding General of the U.S. Army Corps of Engineers -- responsible for over 37\,000 employees who provided engineering\, project management\, construction\, and operation and maintenance support in nearly 100 countries around the world.</p>\n\n<p>Van became a Christian in 1977 in Hawaii and has served the Lord in church leadership positions\, bible studies and life groups\, and twelve years as the President of The Officers Christian Fellowship. He and his wife\, Paula\, speak at retreats and Christian conferences\, and ministered to wounded warriors in Alaska with Samaritan&#39\;s Purse this past summer. They reside in North Carolina and have five children and seven grandchildren.</p>\n\n<p>Joel Allison\, President and CEO of the Baylor Health Care System\, will also address issues regarding medical care and the charitable clinic.</p>\n\n<p>Reserve now to ensure a table ($500\, $750 or $1\,000)<br />\n(214) 734-0266 or &gt\;Barbara.hopeclinic@verizon.net</p>\n\n<p>To reserve individual tickets:<br />\n<a href="mailto:Barbara.hopeclinic@verizon.net">Barbara.hopeclinic@verizon.net</a></p>\n
LOCATION:Granville Arts Center
UID:e.2096.1164
SEQUENCE:3
DTSTAMP:20260421T073713Z
URL:https://network.garlandchamber.com/events/details/hope-clinic-prayer-breakfast-05-01-2013-1164
END:VEVENT

END:VCALENDAR
