BEGIN:VCALENDAR
VERSION:2.0
PRODID:-//ChamberMaster//Event Calendar 2.0//EN
METHOD:PUBLISH
X-PUBLISHED-TTL:P3D
REFRESH-INTERVAL:P3D
CALSCALE:GREGORIAN
BEGIN:VEVENT
DTSTART:20130502T000000Z
DTEND:20130502T020000Z
X-MICROSOFT-CDO-ALLDAYEVENT:FALSE
SUMMARY:Hope Clinic Prayer Breakfast
DESCRIPTION:
X-ALT-DESC;FMTTYPE=text/html:
LOCATION:Atrium
UID:e.2096.1172
SEQUENCE:3
DTSTAMP:20260421T073733Z
URL:https://network.garlandchamber.com/events/details/hope-clinic-prayer-breakfast-05-01-2013-1172
END:VEVENT

END:VCALENDAR
