BEGIN:VCALENDAR
VERSION:2.0
PRODID:-//ChamberMaster//Event Calendar 2.0//EN
METHOD:PUBLISH
X-PUBLISHED-TTL:P3D
REFRESH-INTERVAL:P3D
CALSCALE:GREGORIAN
BEGIN:VEVENT
DTSTART:20140506T120000Z
DTEND:20140506T140000Z
X-MICROSOFT-CDO-ALLDAYEVENT:FALSE
SUMMARY:Hope Clinic Prayer Breakfast 2014
DESCRIPTION:
X-ALT-DESC;FMTTYPE=text/html:
LOCATION:THE ATRIUM
UID:e.2096.2633
SEQUENCE:3
DTSTAMP:20260420T134020Z
URL:https://network.garlandchamber.com/events/details/hope-clinic-prayer-breakfast-2014-05-06-2014-2633
END:VEVENT

END:VCALENDAR
