BEGIN:VCALENDAR
VERSION:2.0
PRODID:-//ChamberMaster//Event Calendar 2.0//EN
METHOD:PUBLISH
X-PUBLISHED-TTL:P3D
REFRESH-INTERVAL:P3D
CALSCALE:GREGORIAN
BEGIN:VEVENT
DTSTART:20100421T180000Z
DTEND:20100421T200000Z
X-MICROSOFT-CDO-ALLDAYEVENT:FALSE
SUMMARY:How to Survive A Financial Crisis
DESCRIPTION:
X-ALT-DESC;FMTTYPE=text/html:<DIV>&nbsp\;</DIV>
LOCATION:Richland College - Garland Campus
UID:e.2096.781
SEQUENCE:3
DTSTAMP:20260423T121237Z
URL:https://network.garlandchamber.com/events/details/how-to-survive-a-financial-crisis-04-21-2010-781
END:VEVENT

END:VCALENDAR
