BEGIN:VCALENDAR
VERSION:2.0
PRODID:-//ChamberMaster//Event Calendar 2.0//EN
METHOD:PUBLISH
X-PUBLISHED-TTL:P3D
REFRESH-INTERVAL:P3D
CALSCALE:GREGORIAN
BEGIN:VEVENT
DTSTART:20120330T131500Z
DTEND:20120330T210000Z
X-MICROSOFT-CDO-ALLDAYEVENT:FALSE
SUMMARY:HR Legal Conference
DESCRIPTION:Register at www.HRLegalConference.com
X-ALT-DESC;FMTTYPE=text/html:<DIV><FONT size=5>Register at </FONT><A href="http://www.HRLegalConference.com"><FONT size=5>www.HRLegalConference.com</FONT></A></DIV>
LOCATION:Bella Harbor Hilton Conference Center
UID:e.2096.901
SEQUENCE:3
DTSTAMP:20260422T040011Z
URL:https://network.garlandchamber.com/events/details/hr-legal-conference-03-30-2012-901
END:VEVENT

END:VCALENDAR
