BEGIN:VCALENDAR
VERSION:2.0
PRODID:-//ChamberMaster//Event Calendar 2.0//EN
METHOD:PUBLISH
X-PUBLISHED-TTL:P3D
REFRESH-INTERVAL:P3D
CALSCALE:GREGORIAN
BEGIN:VEVENT
DTSTART:20130412T123000Z
DTEND:20130412T203000Z
X-MICROSOFT-CDO-ALLDAYEVENT:FALSE
SUMMARY:HR Legal Conference
DESCRIPTION:Additional Information Available at: http://www.trendhr.com/conference/
X-ALT-DESC;FMTTYPE=text/html:<DIV style="FONT-FAMILY: Arial">Additional Information Available at: <A href="http://www.trendhr.com/conference/">http://www.trendhr.com/conference/</A></DIV>
LOCATION:Hilton Bella Harbor Conference Center
UID:e.2096.1157
SEQUENCE:3
DTSTAMP:20260421T102622Z
URL:https://network.garlandchamber.com/events/details/hr-legal-conference-04-12-2013-1157
END:VEVENT

END:VCALENDAR
