BEGIN:VCALENDAR
VERSION:2.0
PRODID:-//ChamberMaster//Event Calendar 2.0//EN
METHOD:PUBLISH
X-PUBLISHED-TTL:P3D
REFRESH-INTERVAL:P3D
CALSCALE:GREGORIAN
BEGIN:VEVENT
DTSTART:20061114T140000Z
DTEND:20061114T153000Z
X-MICROSOFT-CDO-ALLDAYEVENT:FALSE
SUMMARY:HR Roundtable DiSC Profile Meeting
DESCRIPTION:This is a FREE forum for practitioners and service providers to share information\, strategies and support regarding the many issues and challenges faced by Garland companies of every size any type. The Human Resources Roundtable will positively impact the Garland community by providing a forum for effective communication for employee needs relating to the development and protection of businesses through HR solutions\, techniques and methodology. Our meetings are informative\, interesting and fun! Topics vary each month. This group meets the second Tuesday of each month.
X-ALT-DESC;FMTTYPE=text/html:<DIV><P class=MsoNormal style="MARGIN: 0in 0in 0pt"><SPAN style="FONT-SIZE: 12pt\; FONT-FAMILY: 'Arial Narrow'\; mso-bidi-font-family: Arial">This is a </SPAN><?xml:namespace prefix = st1 ns = "urn:schemas-microsoft-com:office:smarttags" /><st1:stockticker><SPAN style="FONT-SIZE: 12pt\; FONT-FAMILY: 'Arial Narrow'\; mso-bidi-font-family: Arial">FREE</SPAN></st1:stockticker><SPAN style="FONT-SIZE: 12pt\; FONT-FAMILY: 'Arial Narrow'\; mso-bidi-font-family: Arial"> forum for practitioners and service providers to share information\, strategies and support regarding the many issues and challenges faced by </SPAN><st1:City><st1:place><SPAN style="FONT-SIZE: 12pt\; FONT-FAMILY: 'Arial Narrow'\; mso-bidi-font-family: Arial">Garland</SPAN></st1:place></st1:City><SPAN style="FONT-SIZE: 12pt\; FONT-FAMILY: 'Arial Narrow'\; mso-bidi-font-family: Arial"> companies of every size any type. <SPAN style="mso-bidi-font-weight: bold">The Human Resources Roundtable will positively impact the </SPAN></SPAN><st1:City><st1:place><SPAN style="FONT-SIZE: 12pt\; FONT-FAMILY: 'Arial Narrow'\; mso-bidi-font-family: Arial\; mso-bidi-font-weight: bold">Garland</SPAN></st1:place></st1:City><SPAN style="FONT-SIZE: 12pt\; FONT-FAMILY: 'Arial Narrow'\; mso-bidi-font-family: Arial\; mso-bidi-font-weight: bold"> community by providing a forum for effective communication for employee needs relating to the development and protection of businesses through HR solutions\, techniques and methodology.<I style="mso-bidi-font-style: normal"> </I></SPAN><SPAN style="FONT-SIZE: 12pt\; FONT-FAMILY: 'Arial Narrow'\; mso-bidi-font-family: Arial">Our meetings are informative\, interesting and fun! Topics vary each month. <B style="mso-bidi-font-weight: normal"><SPAN style="COLOR: green">This group meets the second Tuesday of each month.</SPAN></B><?xml:namespace prefix = o ns = "urn:schemas-microsoft-com:office:office" /><o:p></o:p></SPAN></P></DIV>
LOCATION:Garland Chamber of Commerce
UID:e.2096.336
SEQUENCE:3
DTSTAMP:20260425T223909Z
URL:https://network.garlandchamber.com/events/details/hr-roundtable-disc-profile-meeting-11-14-2006-336
END:VEVENT

END:VCALENDAR
