BEGIN:VCALENDAR
VERSION:2.0
PRODID:-//ChamberMaster//Event Calendar 2.0//EN
METHOD:PUBLISH
X-PUBLISHED-TTL:P3D
REFRESH-INTERVAL:P3D
CALSCALE:GREGORIAN
BEGIN:VEVENT
DTSTART:20100922T163000Z
DTEND:20100922T190000Z
X-MICROSOFT-CDO-ALLDAYEVENT:FALSE
SUMMARY:Human Resources Managers' Luncheon
DESCRIPTION:
X-ALT-DESC;FMTTYPE=text/html:<DIV><P class=MsoNormal style="MARGIN: 0in 0in 0pt">&nbsp\;</P></DIV>
LOCATION:COSTCO Wholesale
UID:e.2096.830
SEQUENCE:3
DTSTAMP:20260423T052257Z
URL:https://network.garlandchamber.com/events/details/human-resources-managers-luncheon-09-22-2010-830
END:VEVENT

END:VCALENDAR
