BEGIN:VCALENDAR
VERSION:2.0
PRODID:-//ChamberMaster//Event Calendar 2.0//EN
METHOD:PUBLISH
X-PUBLISHED-TTL:P3D
REFRESH-INTERVAL:P3D
CALSCALE:GREGORIAN
BEGIN:VEVENT
DTSTART:20090330T160000Z
DTEND:20090401T010000Z
X-MICROSOFT-CDO-ALLDAYEVENT:FALSE
SUMMARY:Hyatt Dallas/Garland -Firewheel Job Fair
DESCRIPTION:
X-ALT-DESC;FMTTYPE=text/html:
LOCATION:The Special Events Center
UID:e.2096.653
SEQUENCE:3
DTSTAMP:20260424T064016Z
URL:https://network.garlandchamber.com/events/details/hyatt-dallas-garland-firewheel-job-fair-03-30-2009-653
END:VEVENT

END:VCALENDAR
