BEGIN:VCALENDAR
VERSION:2.0
PRODID:-//ChamberMaster//Event Calendar 2.0//EN
METHOD:PUBLISH
X-PUBLISHED-TTL:P3D
REFRESH-INTERVAL:P3D
CALSCALE:GREGORIAN
BEGIN:VEVENT
DTSTART:20091008T210000Z
DTEND:20091008T230000Z
X-MICROSOFT-CDO-ALLDAYEVENT:FALSE
SUMMARY:IDEA Construction Real Texas Barbecue
DESCRIPTION:
X-ALT-DESC;FMTTYPE=text/html:
LOCATION:IDEA Construction Office
UID:e.2096.708
SEQUENCE:3
DTSTAMP:20260423T220631Z
URL:https://network.garlandchamber.com/events/details/idea-construction-real-texas-barbecue-10-08-2009-708
END:VEVENT

END:VCALENDAR
