BEGIN:VCALENDAR
VERSION:2.0
PRODID:-//ChamberMaster//Event Calendar 2.0//EN
METHOD:PUBLISH
X-PUBLISHED-TTL:P3D
REFRESH-INTERVAL:P3D
CALSCALE:GREGORIAN
BEGIN:VEVENT
DTSTART:20070526T160000Z
DTEND:20070526T050000Z
X-MICROSOFT-CDO-ALLDAYEVENT:FALSE
SUMMARY:India Garden Grand Opening & Ribbon Cutting Ceremony
DESCRIPTION:
X-ALT-DESC;FMTTYPE=text/html:
LOCATION:India Garden
UID:e.2096.391
SEQUENCE:3
DTSTAMP:20260425T133546Z
URL:https://network.garlandchamber.com/events/details/india-garden-grand-opening-ribbon-cutting-ceremony-05-26-2007-391
END:VEVENT

END:VCALENDAR
