BEGIN:VCALENDAR
VERSION:2.0
PRODID:-//ChamberMaster//Event Calendar 2.0//EN
METHOD:PUBLISH
X-PUBLISHED-TTL:P3D
REFRESH-INTERVAL:P3D
CALSCALE:GREGORIAN
BEGIN:VEVENT
DTSTART:20130201T000000Z
DTEND:20130201T020000Z
X-MICROSOFT-CDO-ALLDAYEVENT:FALSE
SUMMARY:Information Session
DESCRIPTION:Amberton University will hold an information session open to the public prior to the start of the Spring 2013 term\, which begins March 9th. Those interested in seeking a bachelor or master's degree are encouraged to attend.\n\nAmberton University has been educating working adults in DFW since 1971.Classes are offered evenings and on weekends at campuses in Garland and Frisco\, and online.
X-ALT-DESC;FMTTYPE=text/html:Amberton University will hold an information session open to the public prior to the start of the Spring 2013 term\, which begins March 9th. Those interested in seeking a bachelor or master's degree are encouraged to attend.\n\nAmberton University has been educating working adults in DFW since 1971.Classes are offered evenings and on weekends at campuses in Garland and Frisco\, and online.\n
LOCATION:Amberton's Garland Campus
UID:e.2096.5
SEQUENCE:3
DTSTAMP:20260421T131304Z
URL:https://network.garlandchamber.com/events/details/information-session-01-31-2013-5
END:VEVENT

END:VCALENDAR
