BEGIN:VCALENDAR
VERSION:2.0
PRODID:-//ChamberMaster//Event Calendar 2.0//EN
METHOD:PUBLISH
X-PUBLISHED-TTL:P3D
REFRESH-INTERVAL:P3D
CALSCALE:GREGORIAN
BEGIN:VEVENT
DTSTART:20130530T230000Z
DTEND:20130531T003000Z
X-MICROSOFT-CDO-ALLDAYEVENT:FALSE
SUMMARY:Information Session Summer 2013
DESCRIPTION:You are invited to attend Amberton University's Information Session for Summer 2013Additional information available at: http://www.amberton.edu/infodates.pdf
X-ALT-DESC;FMTTYPE=text/html:<P>You are invited to attend Amberton University's Information Session for Summer 2013</P><P>Additional information available at: <A href="http://www.amberton.edu/infodates.pdf">http://www.amberton.edu/infodates.pdf</A></P>
LOCATION:Amberton's Garland Campus
UID:e.2096.2
SEQUENCE:3
DTSTAMP:20260421T073506Z
URL:https://network.garlandchamber.com/events/details/information-session-summer-2013-05-30-2013-2
END:VEVENT

END:VCALENDAR
