BEGIN:VCALENDAR
VERSION:2.0
PRODID:-//ChamberMaster//Event Calendar 2.0//EN
METHOD:PUBLISH
X-PUBLISHED-TTL:P3D
REFRESH-INTERVAL:P3D
CALSCALE:GREGORIAN
BEGIN:VEVENT
DTSTART:20120623T130000Z
DTEND:20120624T043000Z
X-MICROSOFT-CDO-ALLDAYEVENT:FALSE
SUMMARY:It's a Guy Thing: Better Man\, Better You Men's Health Event
DESCRIPTION:Regular checkups should be a part of every man's routine. Join us for It's a Guy Thing\, a FREE health event\, to learn about maintaining and improving your health.\nRegister at 1-800-4BAYLOR or at www.BaylorHealth.com/GuyThing See the event flyer for additional details including a list of free screenings available and health presentations offered.
X-ALT-DESC;FMTTYPE=text/html:<DIV style="FONT-FAMILY: Arial">Regular checkups should be a part of every man's routine.</DIV><DIV style="FONT-FAMILY: Arial">&nbsp\;</DIV><DIV style="FONT-FAMILY: Arial">Join us for It's&nbsp\;a Guy Thing\, a FREE health event\, to learn about maintaining and improving your health.</DIV><DIV style="FONT-FAMILY: Arial"><BR>Register at 1-800-4BAYLOR or at <A href="http://www.BaylorHealth.com/GuyThing">www.BaylorHealth.com/GuyThing</A></DIV><DIV style="FONT-FAMILY: Arial">&nbsp\;</DIV><DIV style="FONT-FAMILY: Arial">See the event flyer for additional details including a list of free screenings available and health presentations offered.</DIV>
LOCATION:Hyatt Place Dallas/ Garland
UID:e.2096.1050
SEQUENCE:3
DTSTAMP:20260422T010618Z
URL:https://network.garlandchamber.com/events/details/it-s-a-guy-thing-better-man-better-you-men-s-health-event-06-23-2012-1050
END:VEVENT

END:VCALENDAR
