BEGIN:VCALENDAR
VERSION:2.0
PRODID:-//ChamberMaster//Event Calendar 2.0//EN
METHOD:PUBLISH
X-PUBLISHED-TTL:P3D
REFRESH-INTERVAL:P3D
CALSCALE:GREGORIAN
BEGIN:VEVENT
DTSTART:20100729T170000Z
DTEND:20100729T180000Z
X-MICROSOFT-CDO-ALLDAYEVENT:FALSE
SUMMARY:ITT Open House
DESCRIPTION:
X-ALT-DESC;FMTTYPE=text/html:
LOCATION:ITT Techical Institute
UID:e.2096.764
SEQUENCE:3
DTSTAMP:20260423T081056Z
URL:https://network.garlandchamber.com/events/details/itt-open-house-07-29-2010-764
END:VEVENT

END:VCALENDAR
