BEGIN:VCALENDAR
VERSION:2.0
PRODID:-//ChamberMaster//Event Calendar 2.0//EN
METHOD:PUBLISH
X-PUBLISHED-TTL:P3D
REFRESH-INTERVAL:P3D
CALSCALE:GREGORIAN
BEGIN:VEVENT
DTSTART:20070116T140000Z
DTEND:20070116T150000Z
X-MICROSOFT-CDO-ALLDAYEVENT:FALSE
SUMMARY:January A.M. Connections
DESCRIPTION:This FREE morning networking event gives you the chance to meet other business people and make new contacts. These are not just networking events\, but and opportunity for you to connect with valuable resources/ people. Upon attending this event you are allowed 30 seconds to tell us about your business and express your business needs.  Breakfast will be served!Bring business cards/ marketing materials to hand out!Invite a guest!
X-ALT-DESC;FMTTYPE=text/html:<P class=MsoNormal style="MARGIN: 0in 0in 0pt\; FONT-FAMILY: Arial\; mso-layout-grid-align: none"><FONT size=4><FONT size=4><I><SPAN style="FONT-SIZE: 12pt\; COLOR: black\; FONT-FAMILY: 'Arial Narrow'\; mso-bidi-font-family: Arial">This </SPAN></I><?xml:namespace prefix = st1 ns = "urn:schemas-microsoft-com:office:smarttags" /><st1:stockticker><I><SPAN style="FONT-SIZE: 12pt\; COLOR: green\; FONT-FAMILY: 'Arial Narrow'\; mso-bidi-font-family: Arial">FREE</SPAN></I></st1:stockticker><I><SPAN style="FONT-SIZE: 12pt\; COLOR: black\; FONT-FAMILY: 'Arial Narrow'\; mso-bidi-font-family: Arial"> </SPAN></I><SPAN style="FONT-SIZE: 12pt\; COLOR: green\; FONT-FAMILY: 'Arial Narrow'\; mso-bidi-font-family: Arial\; mso-bidi-font-style: italic">morning</SPAN><B style="mso-bidi-font-weight: normal"><I><SPAN style="FONT-SIZE: 12pt\; COLOR: black\; FONT-FAMILY: 'Arial Narrow'\; mso-bidi-font-family: Arial"> </SPAN></I></B><I><SPAN style="FONT-SIZE: 12pt\; COLOR: black\; FONT-FAMILY: 'Arial Narrow'\; mso-bidi-font-family: Arial">networking event gives you the chance to meet other business people and make new contacts. </SPAN></I></FONT><SPAN style="FONT-SIZE: 12pt\; FONT-FAMILY: 'Arial Narrow'\; mso-bidi-font-family: Arial"><FONT size=4>These are</FONT> <FONT size=4>not just networking events\, but&nbsp\;and&nbsp\;opportunity for you to connect with valuable resources/ people</FONT><I><SPAN style="COLOR: black"><FONT size=4>.</FONT> <FONT size=4>Upon attending this event you are allowed 30 seconds to tell us about your business and express your business needs. </FONT></SPAN></I></SPAN></FONT></P><P class=MsoNormal style="MARGIN: 0in 0in 0pt\; FONT-FAMILY: Arial\; mso-layout-grid-align: none" align=center><SPAN style="FONT-SIZE: 12pt\; FONT-FAMILY: 'Arial Narrow'\; mso-bidi-font-family: Arial"><I><SPAN style="COLOR: black"></SPAN></I></SPAN><SPAN style="FONT-SIZE: 12pt\; FONT-FAMILY: 'Arial Narrow'\; mso-bidi-font-family: Arial"><I><SPAN style="COLOR: black"><FONT size=4></FONT></SPAN></I></SPAN>&nbsp\;</P><P class=MsoNormal style="MARGIN: 0in 0in 0pt\; FONT-FAMILY: Arial\; mso-layout-grid-align: none" align=center><SPAN style="FONT-SIZE: 12pt\; FONT-FAMILY: 'Arial Narrow'\; mso-bidi-font-family: Arial"><I><SPAN style="COLOR: black"><FONT color=#008000 size=4>Breakfast will be served!</FONT></SPAN></I></SPAN></P><P class=MsoNormal style="MARGIN: 0in 0in 0pt\; FONT-FAMILY: Arial\; mso-layout-grid-align: none" align=center><SPAN style="FONT-SIZE: 12pt\; FONT-FAMILY: 'Arial Narrow'\; mso-bidi-font-family: Arial"><I><SPAN style="COLOR: black"><FONT color=#800000 size=4>Bring business cards/ marketing materials to hand out!</FONT></SPAN></I></SPAN></P><P class=MsoNormal style="MARGIN: 0in 0in 0pt\; FONT-FAMILY: Arial\; mso-layout-grid-align: none" align=center><SPAN style="FONT-SIZE: 12pt\; FONT-FAMILY: 'Arial Narrow'\; mso-bidi-font-family: Arial"><I><SPAN style="COLOR: black"><FONT color=#008000 size=4>Invite a guest!</FONT></SPAN></I></SPAN></P>
LOCATION:Primrose at Park Place
UID:e.2096.339
SEQUENCE:3
DTSTAMP:20260425T193211Z
URL:https://network.garlandchamber.com/events/details/january-a-m-connections-01-16-2007-339
END:VEVENT

END:VCALENDAR
