BEGIN:VCALENDAR
VERSION:2.0
PRODID:-//ChamberMaster//Event Calendar 2.0//EN
METHOD:PUBLISH
X-PUBLISHED-TTL:P3D
REFRESH-INTERVAL:P3D
CALSCALE:GREGORIAN
BEGIN:VEVENT
DTSTART:20070110T133000Z
DTEND:20070110T150000Z
X-MICROSOFT-CDO-ALLDAYEVENT:FALSE
SUMMARY:January Business Skills Breakfast
DESCRIPTION:Whether you are thinking about starting your own business or already have a business\, this business skills series is designed for you. The Garland Chamber is pleased to present a series of informative topics that will provide you with ideas you can use in your business\, which will cost you little or nothing to implement. This business skills series will present you with the skills needed to manage a successful business and an opportunity to network with other business owners. This NEW event will feature a beneficial business topic in the first half and a networking session at the end.If you are interested in sponsoring this event\, please contact Kisha Allen at (469) 326-7454.
X-ALT-DESC;FMTTYPE=text/html:<P class=MsoNormal style="MARGIN: 0in 0in 0pt"><I style="mso-bidi-font-style: normal"><SPAN style="FONT-SIZE: 12pt\; FONT-FAMILY: 'Arial Narrow'\; mso-bidi-font-family: Arial">Whether you are thinking about starting your own business or already have a business\, this business skills series is designed for you. The Garland Chamber is pleased to present a series of informative topics that will provide you with ideas you can use in your business\, which will cost you little or nothing to implement. This business skills series will present you with the skills needed to manage a successful business and an opportunity to network with other business owners.&nbsp\;This <FONT color=#800080><STRONG>NEW</STRONG></FONT>&nbsp\;event will feature a beneficial business topic in the first half and a networking session at the end.</SPAN></I></P><P class=MsoNormal style="MARGIN: 0in 0in 0pt" align=center><I style="mso-bidi-font-style: normal"><SPAN style="FONT-SIZE: 12pt\; FONT-FAMILY: 'Arial Narrow'\; mso-bidi-font-family: Arial"></SPAN></I><I style="mso-bidi-font-style: normal"><SPAN style="FONT-SIZE: 12pt\; FONT-FAMILY: 'Arial Narrow'\; mso-bidi-font-family: Arial"><STRONG><FONT color=#008000>If you are interested in sponsoring this event\, please contact Kisha Allen at (469) 326-7454.</FONT></STRONG></SPAN></I></P>
LOCATION:G.I.S.D. Special Events Center
UID:e.2096.340
SEQUENCE:3
DTSTAMP:20260425T210244Z
URL:https://network.garlandchamber.com/events/details/january-business-skills-breakfast-01-10-2007-340
END:VEVENT

END:VCALENDAR
