BEGIN:VCALENDAR
VERSION:2.0
PRODID:-//ChamberMaster//Event Calendar 2.0//EN
METHOD:PUBLISH
X-PUBLISHED-TTL:P3D
REFRESH-INTERVAL:P3D
CALSCALE:GREGORIAN
BEGIN:VEVENT
DTSTART:20080109T180000Z
DTEND:20080109T190000Z
X-MICROSOFT-CDO-ALLDAYEVENT:FALSE
SUMMARY:January Business Skills Lunch Series
DESCRIPTION:
X-ALT-DESC;FMTTYPE=text/html:
LOCATION:Garland Chmaber of Commerce
UID:e.2096.475
SEQUENCE:3
DTSTAMP:20260425T015528Z
URL:https://network.garlandchamber.com/events/details/january-business-skills-lunch-series-01-09-2008-475
END:VEVENT

END:VCALENDAR
