BEGIN:VCALENDAR
VERSION:2.0
PRODID:-//ChamberMaster//Event Calendar 2.0//EN
METHOD:PUBLISH
X-PUBLISHED-TTL:P3D
REFRESH-INTERVAL:P3D
CALSCALE:GREGORIAN
BEGIN:VEVENT
DTSTART:20070125T233000Z
DTEND:20070126T010000Z
X-MICROSOFT-CDO-ALLDAYEVENT:FALSE
SUMMARY:January P.M. Connections Networking Event
DESCRIPTION:Can't make it to the A.M. Connections networking event\, then we have the perfect solution\, the “P.M. Connections” evening edition. Stop by to unwind after a long day of work and come prepared to network. Come out for an evening of live entertainment\, appetizers and FREE alcoholic beverages.
X-ALT-DESC;FMTTYPE=text/html:<P class=MsoNormal style="MARGIN: 0in 0in 0pt\; mso-margin-top-alt: auto\; mso-margin-bottom-alt: auto"><EM><SPAN lang=EN style="FONT-SIZE: 12.5pt\; COLOR: black\; FONT-STYLE: normal\; FONT-FAMILY: 'Arial Narrow'\; mso-ansi-language: EN\; mso-bidi-font-weight: bold\; mso-bidi-font-style: italic">Can't make it to the A.M. Connections networking event\, then&nbsp\;we have the perfect solution\, the&nbsp\;</SPAN></SPAN></EM><EM><SPAN lang=EN style="FONT-SIZE: 12.5pt\; COLOR: red\; FONT-STYLE: normal\; FONT-FAMILY: 'Arial Narrow'\; mso-ansi-language: EN\; mso-bidi-font-weight: bold\; mso-bidi-font-style: italic"><SPAN style="mso-default-font-family: 'Comic Sans MS'\; mso-latin-font-family: 'Comic Sans MS'\; mso-greek-font-family: 'Comic Sans MS'\; mso-cyrillic-font-family: 'Comic Sans MS'\; mso-latinext-font-family: 'Comic Sans MS'">“P.M. Connections” </SPAN></SPAN></EM><EM><SPAN lang=EN style="FONT-SIZE: 12.5pt\; COLOR: black\; FONT-STYLE: normal\; FONT-FAMILY: 'Arial Narrow'\; mso-ansi-language: EN\; mso-bidi-font-weight: bold\; mso-bidi-font-style: italic"><SPAN style="mso-default-font-family: 'Comic Sans MS'\; mso-latin-font-family: 'Comic Sans MS'\; mso-greek-font-family: 'Comic Sans MS'\; mso-cyrillic-font-family: 'Comic Sans MS'\; mso-latinext-font-family: 'Comic Sans MS'">evening edition</SPAN><SPAN style="mso-default-font-family: 'Comic Sans MS'\; mso-latin-font-family: 'Comic Sans MS'\; mso-greek-font-family: 'Comic Sans MS'\; mso-cyrillic-font-family: 'Comic Sans MS'\; mso-latinext-font-family: 'Comic Sans MS'">. Stop by to unwind after a long day of work&nbsp\;and come prepared to network. </SPAN></SPAN></EM><EM><SPAN lang=EN style="FONT-SIZE: 12.5pt\; COLOR: red\; FONT-STYLE: normal\; FONT-FAMILY: 'Arial Narrow'\; mso-ansi-language: EN\; mso-bidi-font-weight: bold\; mso-bidi-font-style: italic"><SPAN style="mso-default-font-family: 'Comic Sans MS'\; mso-latin-font-family: 'Comic Sans MS'\; mso-greek-font-family: 'Comic Sans MS'\; mso-cyrillic-font-family: 'Comic Sans MS'\; mso-latinext-font-family: 'Comic Sans MS'">Come out for an evening of live entertainment\, appetizers and </SPAN></EM><?xml:namespace prefix = st1 ns = "urn:schemas-microsoft-com:office:smarttags" /><st1:stockticker><EM><SPAN lang=EN style="FONT-SIZE: 12.5pt\; COLOR: red\; FONT-STYLE: normal\; FONT-FAMILY: 'Arial Narrow'\; mso-ansi-language: EN\; mso-bidi-font-weight: bold\; mso-bidi-font-style: italic">FREE</SPAN></EM></st1:stockticker><EM><SPAN lang=EN style="FONT-SIZE: 12.5pt\; COLOR: red\; FONT-STYLE: normal\; FONT-FAMILY: 'Arial Narrow'\; mso-ansi-language: EN\; mso-bidi-font-weight: bold\; mso-bidi-font-style: italic"> alcoholic beverages. </SPAN></SPAN></EM><EM><SPAN lang=EN style="FONT-SIZE: 12.5pt\; COLOR: black\; FONT-STYLE: normal\; FONT-FAMILY: 'Arial Narrow'\; mso-ansi-language: EN\; mso-bidi-font-style: italic"><?xml:namespace prefix = o ns = "urn:schemas-microsoft-com:office:office" /><o:p></o:p></SPAN></EM></P>
LOCATION:The Garland Opry
UID:e.2096.341
SEQUENCE:3
DTSTAMP:20260425T193211Z
URL:https://network.garlandchamber.com/events/details/january-p-m-connections-networking-event-01-25-2007-341
END:VEVENT

END:VCALENDAR
