BEGIN:VCALENDAR
VERSION:2.0
PRODID:-//ChamberMaster//Event Calendar 2.0//EN
METHOD:PUBLISH
X-PUBLISHED-TTL:P3D
REFRESH-INTERVAL:P3D
CALSCALE:GREGORIAN
BEGIN:VEVENT
DTSTART:20110811T150000Z
DTEND:20110811T190000Z
X-MICROSOFT-CDO-ALLDAYEVENT:FALSE
SUMMARY:Job Fair - Conquering Connections
DESCRIPTION:
X-ALT-DESC;FMTTYPE=text/html:
LOCATION:Richland College Garland Campus
UID:e.2096.950
SEQUENCE:3
DTSTAMP:20260422T151211Z
URL:https://network.garlandchamber.com/events/details/job-fair-conquering-connections-08-11-2011-950
END:VEVENT

END:VCALENDAR
