BEGIN:VCALENDAR
VERSION:2.0
PRODID:-//ChamberMaster//Event Calendar 2.0//EN
METHOD:PUBLISH
X-PUBLISHED-TTL:P3D
REFRESH-INTERVAL:P3D
CALSCALE:GREGORIAN
BEGIN:VEVENT
DTSTART:20110313T233000Z
DTEND:20110314T023000Z
X-MICROSOFT-CDO-ALLDAYEVENT:FALSE
SUMMARY:Joey Albert Live in Dallas
DESCRIPTION:"Joey Albert LIVE in Dallas"\, an event full of music\, fun and entertainment that will showcase Filipino and Filipino-American talents.  We are excited as this is Joey Albertâ€™s first live concert here in Dallas!  Besides her many recordings Joey Albert is also a popular Filipino concert artist who\,in addition to her many appearances in the Philippines\, has performed in Indonesia\, Hong Kong\, manyEuropean countries and in the Middle East\, as well as in North America..
X-ALT-DESC;FMTTYPE=text/html:"Joey Albert LIVE in Dallas"\, an event full of music\, fun and entertainment that will showcase Filipino and Filipino-American talents.  We are excited as this is Joey Albertâ€™s first live concert here in Dallas!  Besides her many recordings Joey Albert is also a popular Filipino concert artist who\,in addition to her many appearances in the Philippines\, has performed in Indonesia\, Hong Kong\, manyEuropean countries and in the Middle East\, as well as in North America..
LOCATION:Patty Granville Arts Center
UID:e.2096.16
SEQUENCE:3
DTSTAMP:20260422T210044Z
URL:https://network.garlandchamber.com/events/details/joey-albert-live-in-dallas-03-13-2011-16
END:VEVENT

END:VCALENDAR
