BEGIN:VCALENDAR
VERSION:2.0
PRODID:-//ChamberMaster//Event Calendar 2.0//EN
METHOD:PUBLISH
X-PUBLISHED-TTL:P3D
REFRESH-INTERVAL:P3D
CALSCALE:GREGORIAN
BEGIN:VEVENT
DTSTART:20080701T050000Z
DTEND:20080704T050000Z
X-MICROSOFT-CDO-ALLDAYEVENT:FALSE
SUMMARY:Join Sam's Club\, July 1st - 4th & Receive a $10 Gift Card
DESCRIPTION:
X-ALT-DESC;FMTTYPE=text/html:
LOCATION:Sam's Club
UID:e.2096.523
SEQUENCE:3
DTSTAMP:20260424T171828Z
URL:https://network.garlandchamber.com/events/details/join-sam-s-club-july-1st-4th-receive-a-10-gift-card-07-01-2008-523
END:VEVENT

END:VCALENDAR
