BEGIN:VCALENDAR
VERSION:2.0
PRODID:-//ChamberMaster//Event Calendar 2.0//EN
METHOD:PUBLISH
X-PUBLISHED-TTL:P3D
REFRESH-INTERVAL:P3D
CALSCALE:GREGORIAN
BEGIN:VEVENT
DTSTART:20120725T150000Z
DTEND:20120726T020000Z
X-MICROSOFT-CDO-ALLDAYEVENT:FALSE
SUMMARY:Jos. A. Bank Exclusive One-Day Sale
DESCRIPTION:Exclusive One-Day Sale First Time Ever! All Suits & Sportcoats: Buy 1 Get 3 Free Everything Else in Store: Buy 1 Get 3 Free See Sale Flyer for Exclusions and Details
X-ALT-DESC;FMTTYPE=text/html:<DIV style="FONT-FAMILY: Arial">Exclusive One-Day Sale</DIV><DIV style="FONT-FAMILY: Arial">&nbsp\;</DIV><DIV style="FONT-FAMILY: Arial">First Time Ever!</DIV><DIV style="FONT-FAMILY: Arial">&nbsp\;</DIV><DIV style="FONT-FAMILY: Arial">All Suits &amp\; Sportcoats: Buy 1 Get 3 Free</DIV><DIV style="FONT-FAMILY: Arial">&nbsp\;</DIV><DIV style="FONT-FAMILY: Arial">Everything Else in Store: Buy 1 Get 3 Free</DIV><DIV style="FONT-FAMILY: Arial">&nbsp\;</DIV><DIV style="FONT-FAMILY: Arial"><A dataFld=0:0 href="http://www.garlandchamber.com/images/stories/chamber/Member%20Promotions/Jos.%20A.%20Bank%20Sale%20-%20July.pdf">See Sale Flyer</A> for Exclusions and Details</DIV>
LOCATION:Jos. A. Bank Men's Clothier
UID:e.2096.1071
SEQUENCE:3
DTSTAMP:20260421T233850Z
URL:https://network.garlandchamber.com/events/details/jos-a-bank-exclusive-one-day-sale-07-25-2012-1071
END:VEVENT

END:VCALENDAR
