BEGIN:VCALENDAR
VERSION:2.0
PRODID:-//ChamberMaster//Event Calendar 2.0//EN
METHOD:PUBLISH
X-PUBLISHED-TTL:P3D
REFRESH-INTERVAL:P3D
CALSCALE:GREGORIAN
BEGIN:VEVENT
DTSTART:20070619T130000Z
DTEND:20070619T140000Z
X-MICROSOFT-CDO-ALLDAYEVENT:FALSE
SUMMARY:June A.M. Connections
DESCRIPTION:
X-ALT-DESC;FMTTYPE=text/html:
LOCATION:Primrose at Park Place
UID:e.2096.360
SEQUENCE:3
DTSTAMP:20260425T120145Z
URL:https://network.garlandchamber.com/events/details/june-a-m-connections-06-19-2007-360
END:VEVENT

END:VCALENDAR
