BEGIN:VCALENDAR
VERSION:2.0
PRODID:-//ChamberMaster//Event Calendar 2.0//EN
METHOD:PUBLISH
X-PUBLISHED-TTL:P3D
REFRESH-INTERVAL:P3D
CALSCALE:GREGORIAN
BEGIN:VEVENT
DTSTART:20070613T130000Z
DTEND:20070613T140000Z
X-MICROSOFT-CDO-ALLDAYEVENT:FALSE
SUMMARY:June Business Skills Breakfast
DESCRIPTION:
X-ALT-DESC;FMTTYPE=text/html:
LOCATION:G.I.S.D. Special Events Center
UID:e.2096.395
SEQUENCE:3
DTSTAMP:20260425T120439Z
URL:https://network.garlandchamber.com/events/details/june-business-skills-breakfast-06-13-2007-395
END:VEVENT

END:VCALENDAR
