BEGIN:VCALENDAR
VERSION:2.0
PRODID:-//ChamberMaster//Event Calendar 2.0//EN
METHOD:PUBLISH
X-PUBLISHED-TTL:P3D
REFRESH-INTERVAL:P3D
CALSCALE:GREGORIAN
BEGIN:VEVENT
DTSTART:20080611T170000Z
DTEND:20080611T180000Z
X-MICROSOFT-CDO-ALLDAYEVENT:FALSE
SUMMARY:June Business Skills Lunch Workshop
DESCRIPTION:
X-ALT-DESC;FMTTYPE=text/html:
LOCATION:Garland Chamber of Commerce
UID:e.2096.537
SEQUENCE:3
DTSTAMP:20260424T183921Z
URL:https://network.garlandchamber.com/events/details/june-business-skills-lunch-workshop-06-11-2008-537
END:VEVENT

END:VCALENDAR
