BEGIN:VCALENDAR
VERSION:2.0
PRODID:-//ChamberMaster//Event Calendar 2.0//EN
METHOD:PUBLISH
X-PUBLISHED-TTL:P3D
REFRESH-INTERVAL:P3D
CALSCALE:GREGORIAN
BEGIN:VEVENT
DTSTART:20070620T130000Z
DTEND:20070620T140000Z
X-MICROSOFT-CDO-ALLDAYEVENT:FALSE
SUMMARY:June V.I.P. Coffee 2007
DESCRIPTION:
X-ALT-DESC;FMTTYPE=text/html:<DIV style="FONT-FAMILY: Arial"><P class=MsoNormal style="MARGIN: 0in 0in 0pt\; mso-layout-grid-align: none"><B style="mso-bidi-font-weight: normal"><I><SPAN style="FONT-SIZE: 12pt\; COLOR: green\; FONT-FAMILY: 'Arial Narrow'\; mso-bidi-font-family: Arial"><?xml:namespace prefix = o ns = "urn:schemas-microsoft-com:office:office" /><o:p></o:p></SPAN></I></B>&nbsp\;</P></DIV>
LOCATION:Garland Chamber of Commerce
UID:e.2096.399
SEQUENCE:3
DTSTAMP:20260425T120243Z
URL:https://network.garlandchamber.com/events/details/june-v-i-p-coffee-2007-06-20-2007-399
END:VEVENT

END:VCALENDAR
