BEGIN:VCALENDAR
VERSION:2.0
PRODID:-//ChamberMaster//Event Calendar 2.0//EN
METHOD:PUBLISH
X-PUBLISHED-TTL:P3D
REFRESH-INTERVAL:P3D
CALSCALE:GREGORIAN
BEGIN:VEVENT
DTSTART:20120331T160000Z
DTEND:20120331T200000Z
X-MICROSOFT-CDO-ALLDAYEVENT:FALSE
SUMMARY:KidsFest 2012
DESCRIPTION:FREE family event featuring giant egg hunt\, bounce houses\, face painting\, children's crafts\, free giveaways\, and lots more!
X-ALT-DESC;FMTTYPE=text/html:FREE family event featuring giant egg hunt\, bounce houses\, face painting\, children's crafts\, free giveaways\, and lots more!
LOCATION:The Park at Firewheel Town Center
UID:e.2096.11
SEQUENCE:3
DTSTAMP:20260422T035223Z
URL:https://network.garlandchamber.com/events/details/kidsfest-2012-03-31-2012-11
END:VEVENT

END:VCALENDAR
