BEGIN:VCALENDAR
VERSION:2.0
PRODID:-//ChamberMaster//Event Calendar 2.0//EN
METHOD:PUBLISH
X-PUBLISHED-TTL:P3D
REFRESH-INTERVAL:P3D
CALSCALE:GREGORIAN
BEGIN:VEVENT
DTSTART:20120331T160000Z
DTEND:20120331T200000Z
X-MICROSOFT-CDO-ALLDAYEVENT:FALSE
SUMMARY:KIDSFEST 2012
DESCRIPTION:KidsFest 2012 in The Park at Firewheel Town CenterSaturday\, March 3111:00 a.m. to 3:00 p.m. FREE TO ATTENDEgg Hunt starts the event\, bounce houses\, face painters\, family activities\, \ngiveaways and more!Benefiting Galaxy Counseling Center
X-ALT-DESC;FMTTYPE=text/html:<DIV style="FONT-FAMILY: Arial" align=center>KidsFest 2012 in The Park at Firewheel Town Center</DIV><DIV style="FONT-FAMILY: Arial" align=center>Saturday\, March 31</DIV><DIV style="FONT-FAMILY: Arial" align=center>11:00 a.m. to 3:00 p.m.</DIV><DIV style="FONT-FAMILY: Arial" align=center>&nbsp\;</DIV><DIV style="FONT-FAMILY: Arial" align=center>FREE TO ATTEND</DIV><DIV style="FONT-FAMILY: Arial" align=center>Egg Hunt starts the event\, bounce houses\, face painters\, family activities\, <BR>giveaways and more!</DIV><DIV style="FONT-FAMILY: Arial" align=center>Benefiting Galaxy Counseling Center</DIV>
LOCATION:The Park at Firewheel Town Center
UID:e.2096.509
SEQUENCE:3
DTSTAMP:20260422T034639Z
URL:https://network.garlandchamber.com/events/details/kidsfest-2012-03-31-2012-509
END:VEVENT

END:VCALENDAR
