BEGIN:VCALENDAR
VERSION:2.0
PRODID:-//ChamberMaster//Event Calendar 2.0//EN
METHOD:PUBLISH
X-PUBLISHED-TTL:P3D
REFRESH-INTERVAL:P3D
CALSCALE:GREGORIAN
BEGIN:VEVENT
DTSTART:20080308T230000Z
DTEND:20080309T030000Z
X-MICROSOFT-CDO-ALLDAYEVENT:FALSE
SUMMARY:KLTY Celebrate Family 2008
DESCRIPTION:
X-ALT-DESC;FMTTYPE=text/html:
LOCATION:G.I.S.D. Special Events Center
UID:e.2096.503
SEQUENCE:3
DTSTAMP:20260424T230007Z
URL:https://network.garlandchamber.com/events/details/klty-celebrate-family-2008-03-08-2008-503
END:VEVENT

END:VCALENDAR
