BEGIN:VCALENDAR
VERSION:2.0
PRODID:-//ChamberMaster//Event Calendar 2.0//EN
METHOD:PUBLISH
X-PUBLISHED-TTL:P3D
REFRESH-INTERVAL:P3D
CALSCALE:GREGORIAN
BEGIN:VEVENT
DTSTART:20081025T153000Z
DTEND:20081025T050000Z
X-MICROSOFT-CDO-ALLDAYEVENT:FALSE
SUMMARY:Krystal Clear Promotions Ribbon Cutting Ceremony
DESCRIPTION:
X-ALT-DESC;FMTTYPE=text/html:
LOCATION:Krystal Clear Promotions
UID:e.2096.590
SEQUENCE:3
DTSTAMP:20260424T133251Z
URL:https://network.garlandchamber.com/events/details/krystal-clear-promotions-ribbon-cutting-ceremony-10-25-2008-590
END:VEVENT

END:VCALENDAR
