BEGIN:VCALENDAR
VERSION:2.0
PRODID:-//ChamberMaster//Event Calendar 2.0//EN
METHOD:PUBLISH
X-PUBLISHED-TTL:P3D
REFRESH-INTERVAL:P3D
CALSCALE:GREGORIAN
BEGIN:VEVENT
DTSTART:20120903T140000Z
DTEND:20120903T220000Z
X-MICROSOFT-CDO-ALLDAYEVENT:FALSE
SUMMARY:Labor Day Parade & Festival
DESCRIPTION:Join in the fun at the 67th Annual Garland Labor Day Parade & Festival Date: Monday\, September 3\, 2012Parade from 9 to 11 a.m.  | Festival from 11 a.m. to 5 p.m. Parade begins at Fifth and Walnut\, festival takes place at Central Park (1310 W. Ave. F\, Garland\, TX) For information\, call:Rosie Neely (972) 276-6180www.garlandlabordayevent.com See the Event Flyer
X-ALT-DESC;FMTTYPE=text/html:<DIV style="FONT-FAMILY: Arial">Join in the fun at the 67th Annual Garland Labor Day Parade &amp\; Festival</DIV><DIV style="FONT-FAMILY: Arial">&nbsp\;</DIV><DIV style="FONT-FAMILY: Arial">Date: Monday\, September 3\, 2012</DIV><DIV style="FONT-FAMILY: Arial">Parade from 9 to 11 a.m.&nbsp\; | Festival from 11 a.m. to 5 p.m.</DIV><DIV style="FONT-FAMILY: Arial">&nbsp\;</DIV><DIV style="FONT-FAMILY: Arial">Parade begins at Fifth and Walnut\, festival takes place at Central Park (1310 W. Ave. F\, Garland\, TX)</DIV><DIV style="FONT-FAMILY: Arial">&nbsp\;</DIV><DIV style="FONT-FAMILY: Arial">For information\, call:</DIV><DIV style="FONT-FAMILY: Arial">Rosie Neely (972) 276-6180</DIV><DIV style="FONT-FAMILY: Arial"><A href="http://www.garlandlabordayevent.com">www.garlandlabordayevent.com</A></DIV><DIV style="FONT-FAMILY: Arial">&nbsp\;</DIV><DIV style="FONT-FAMILY: Arial"><A dataFld=0:0 href="http://www.garlandchamber.com/images/stories/chamber/Member%20Promotions/Labor%20Day%20Parade%20%20Festival.pdf">See the Event Flyer</A></DIV>
LOCATION:Garland Central Park
UID:e.2096.1078
SEQUENCE:3
DTSTAMP:20260421T204746Z
URL:https://network.garlandchamber.com/events/details/labor-day-parade-festival-09-03-2012-1078
END:VEVENT

END:VCALENDAR
